BEGIN:VCALENDAR
VERSION:2.0
PRODID:spatie/icalendar-generator
DESCRIPTION:Events from City of Townsend\, TN
X-WR-CALDESC:Events from City of Townsend\, TN
REFRESH-INTERVAL;VALUE=DURATION:PT1440M
X-PUBLISHED-TTL:PT1440M
BEGIN:VTIMEZONE
TZID:Etc/GMT+0
BEGIN:STANDARD
DTSTART:20241007T180000Z
TZOFFSETFROM:+0000
TZOFFSETTO:+0000
END:STANDARD
END:VTIMEZONE
BEGIN:VTIMEZONE
TZID:UTC
BEGIN:STANDARD
DTSTART:20250726T061203Z
TZOFFSETFROM:+0000
TZOFFSETTO:+0000
END:STANDARD
END:VTIMEZONE
BEGIN:VEVENT
UID:145-93
DTSTAMP:20260422T061203Z
SUMMARY:Townsend Fourth of July Fireworks Show
LOCATION:Beside Highland Manor Inn 7766 E. Lamar Alexander Pkwy.  Townsend 
 TN 37882
ORGANIZER;CN=Crazy_Cat_Lady:MAILTO:gayla@cityoftownsend.com
DTSTART;TZID=Etc/GMT+0:20250704T180000
DTEND;TZID=Etc/GMT+0:20250704T220000
X-ALT-DESC;FMTTYPE=TEXT/HTML:The annual Townsend Fireworks show is held on 
 July 4th each year. More info to come!
CATEGORIES:General
URL;VALUE=URI:https://www.cityoftownsend.com/wp/mc-events/townsend-fourth-o
 f-july-fireworks-show/
METHOD:PUBLISH
END:VEVENT
END:VCALENDAR