BEGIN:VCALENDAR
VERSION:2.0
PRODID:-//wp-events-plugin.com//7.2.3.1//EN
BEGIN:VEVENT
UID:220@cityoftownsend.com
DTSTART:20221204T143000Z
DTEND:20221204T160000Z
DTSTAMP:20221116T172609Z
URL:https://www.cityoftownsend.com/wp/events/townsend-christmas-parade-2/
SUMMARY:Townsend Christmas Parade
DESCRIPTION:The 2022 Townsend Christmas Parade will be held on December 4\,
  2022\, at 2:30 PM.&nbsp\;\n\nParade participants will begin lining up at 
 1 PM near the Townsend Post Office on Town Square Dr.&nbsp\; Check in with
  Townsend Volunteer Fire Department personnel for lineup information.\n\n&
 nbsp\;\n\nParade application and manual\n\n2022 Parade Route
END:VEVENT
END:VCALENDAR